BEGIN:VCALENDAR
VERSION:2.0
PRODID:-//Interner Kalender - ECPv6.0.11//NONSGML v1.0//EN
CALSCALE:GREGORIAN
METHOD:PUBLISH
X-WR-CALNAME:Interner Kalender
X-ORIGINAL-URL:http://kalender.kino-kandern.de
X-WR-CALDESC:Veranstaltungen für Interner Kalender
REFRESH-INTERVAL;VALUE=DURATION:PT1H
X-Robots-Tag:noindex
X-PUBLISHED-TTL:PT1H
BEGIN:VTIMEZONE
TZID:Europe/Berlin
BEGIN:DAYLIGHT
TZOFFSETFROM:+0100
TZOFFSETTO:+0200
TZNAME:CEST
DTSTART:20240331T010000
END:DAYLIGHT
BEGIN:STANDARD
TZOFFSETFROM:+0200
TZOFFSETTO:+0100
TZNAME:CET
DTSTART:20241027T010000
END:STANDARD
BEGIN:DAYLIGHT
TZOFFSETFROM:+0100
TZOFFSETTO:+0200
TZNAME:CEST
DTSTART:20250330T010000
END:DAYLIGHT
BEGIN:STANDARD
TZOFFSETFROM:+0200
TZOFFSETTO:+0100
TZNAME:CET
DTSTART:20251026T010000
END:STANDARD
END:VTIMEZONE
BEGIN:VEVENT
DTSTART;TZID=Europe/Berlin:20250829T080000
DTEND;TZID=Europe/Berlin:20250907T170000
DTSTAMP:20260419T143022
CREATED:20250421T154205Z
LAST-MODIFIED:20250421T154205Z
UID:443-1756454400-1757264400@kalender.kino-kandern.de
SUMMARY:Uwe Urlaub
DESCRIPTION:
URL:http://kalender.kino-kandern.de/veranstaltung/uwe-urlaub-14/
END:VEVENT
BEGIN:VEVENT
DTSTART;TZID=Europe/Berlin:20250713T080000
DTEND;TZID=Europe/Berlin:20250720T170000
DTSTAMP:20260419T143022
CREATED:20250421T154051Z
LAST-MODIFIED:20250421T154051Z
UID:441-1752393600-1753030800@kalender.kino-kandern.de
SUMMARY:Uwe Urlaub
DESCRIPTION:
URL:http://kalender.kino-kandern.de/veranstaltung/uwe-urlaub-13/
END:VEVENT
BEGIN:VEVENT
DTSTART;VALUE=DATE:20250623
DTEND;VALUE=DATE:20250626
DTSTAMP:20260419T143022
CREATED:20250421T153938Z
LAST-MODIFIED:20250421T153938Z
UID:439-1750636800-1750895999@kalender.kino-kandern.de
SUMMARY:Uwe Urlaub
DESCRIPTION:
URL:http://kalender.kino-kandern.de/veranstaltung/uwe-urlaub-12/
END:VEVENT
BEGIN:VEVENT
DTSTART;VALUE=DATE:20250423
DTEND;VALUE=DATE:20250508
DTSTAMP:20260419T143022
CREATED:20250102T084859Z
LAST-MODIFIED:20250102T084859Z
UID:436-1745366400-1746662399@kalender.kino-kandern.de
SUMMARY:Uwe Urlaub
DESCRIPTION:
URL:http://kalender.kino-kandern.de/veranstaltung/uwe-urlaub-11/
END:VEVENT
BEGIN:VEVENT
DTSTART;VALUE=DATE:20250302
DTEND;VALUE=DATE:20250315
DTSTAMP:20260419T143022
CREATED:20250102T084652Z
LAST-MODIFIED:20250102T084652Z
UID:434-1740873600-1741996799@kalender.kino-kandern.de
SUMMARY:Uwe Urlaub
DESCRIPTION:
URL:http://kalender.kino-kandern.de/veranstaltung/uwe-urlaub-10/
END:VEVENT
BEGIN:VEVENT
DTSTART;TZID=Europe/Berlin:20241226T201500
DTEND;TZID=Europe/Berlin:20241226T220000
DTSTAMP:20260419T143022
CREATED:20240619T130642Z
LAST-MODIFIED:20240619T130642Z
UID:423-1735244100-1735250400@kalender.kino-kandern.de
SUMMARY:Der Besondere Film - Zwei zu Eins
DESCRIPTION:
URL:http://kalender.kino-kandern.de/veranstaltung/der-besondere-film-zwei-zu-eins/
CATEGORIES:Der Besondere Film
END:VEVENT
BEGIN:VEVENT
DTSTART;VALUE=DATE:20241220
DTEND;VALUE=DATE:20250107
DTSTAMP:20260419T143022
CREATED:20240507T061221Z
LAST-MODIFIED:20240507T061221Z
UID:353-1734652800-1736207999@kalender.kino-kandern.de
SUMMARY:Judita Urlaub
DESCRIPTION:
URL:http://kalender.kino-kandern.de/veranstaltung/judita-urlaub-2/
CATEGORIES:Urlaub
END:VEVENT
BEGIN:VEVENT
DTSTART;TZID=Europe/Berlin:20241212T201500
DTEND;TZID=Europe/Berlin:20241212T223000
DTSTAMP:20260419T143022
CREATED:20240619T130431Z
LAST-MODIFIED:20240619T130431Z
UID:421-1734034500-1734042600@kalender.kino-kandern.de
SUMMARY:Der Besondere Film - TheHoldovers
DESCRIPTION:
URL:http://kalender.kino-kandern.de/veranstaltung/der-besondere-film-theholdovers/
CATEGORIES:Der Besondere Film
END:VEVENT
BEGIN:VEVENT
DTSTART;TZID=Europe/Berlin:20241209T193000
DTEND;TZID=Europe/Berlin:20241209T210000
DTSTAMP:20260419T143022
CREATED:20240512T074025Z
LAST-MODIFIED:20240512T074025Z
UID:370-1733772600-1733778000@kalender.kino-kandern.de
SUMMARY:Vorstandssitzung
DESCRIPTION:
URL:http://kalender.kino-kandern.de/veranstaltung/vorstandssitzung-12/
CATEGORIES:Vorstandssitzung
END:VEVENT
BEGIN:VEVENT
DTSTART;TZID=Europe/Berlin:20241128T201500
DTEND;TZID=Europe/Berlin:20241128T220000
DTSTAMP:20260419T143022
CREATED:20240619T130319Z
LAST-MODIFIED:20240619T130319Z
UID:419-1732824900-1732831200@kalender.kino-kandern.de
SUMMARY:Der  Besondere Film - Die Herrlichkeit des Lebens
DESCRIPTION:
URL:http://kalender.kino-kandern.de/veranstaltung/der-besondere-film-die-herrlichkeit-des-lebens/
CATEGORIES:Der Besondere Film
END:VEVENT
BEGIN:VEVENT
DTSTART;TZID=Europe/Berlin:20241121T201500
DTEND;TZID=Europe/Berlin:20241121T220000
DTSTAMP:20260419T143022
CREATED:20240619T130144Z
LAST-MODIFIED:20240619T130144Z
UID:417-1732220100-1732226400@kalender.kino-kandern.de
SUMMARY:Der Besondere Film - Joan Baez I am a Noise (Doku)
DESCRIPTION:
URL:http://kalender.kino-kandern.de/veranstaltung/der-besondere-film-joan-baez-i-am-a-noise-doku/
CATEGORIES:Der Besondere Film
END:VEVENT
BEGIN:VEVENT
DTSTART;TZID=Europe/Berlin:20241114T201500
DTEND;TZID=Europe/Berlin:20241114T221500
DTSTAMP:20260419T143022
CREATED:20240619T125923Z
LAST-MODIFIED:20240619T125923Z
UID:415-1731615300-1731622500@kalender.kino-kandern.de
SUMMARY:Der Besondere Film - Ich Capitano
DESCRIPTION:
URL:http://kalender.kino-kandern.de/veranstaltung/der-besondere-film-ich-capitano/
CATEGORIES:Der Besondere Film
END:VEVENT
BEGIN:VEVENT
DTSTART;TZID=Europe/Berlin:20241111T080000
DTEND;TZID=Europe/Berlin:20241217T170000
DTSTAMP:20260419T143022
CREATED:20240503T153035Z
LAST-MODIFIED:20240503T153035Z
UID:344-1731312000-1734454800@kalender.kino-kandern.de
SUMMARY:Uwe Urlaub
DESCRIPTION:
URL:http://kalender.kino-kandern.de/veranstaltung/uwe-urlaub-8/
END:VEVENT
BEGIN:VEVENT
DTSTART;TZID=Europe/Berlin:20241104T193000
DTEND;TZID=Europe/Berlin:20241104T210000
DTSTAMP:20260419T143022
CREATED:20240512T073936Z
LAST-MODIFIED:20240512T073936Z
UID:368-1730748600-1730754000@kalender.kino-kandern.de
SUMMARY:Vorstandssitzung
DESCRIPTION:
URL:http://kalender.kino-kandern.de/veranstaltung/vorstandssitzung-11/
CATEGORIES:Vorstandssitzung
END:VEVENT
BEGIN:VEVENT
DTSTART;TZID=Europe/Berlin:20241031T201500
DTEND;TZID=Europe/Berlin:20241031T231500
DTSTAMP:20260419T143022
CREATED:20240619T125734Z
LAST-MODIFIED:20240619T125734Z
UID:413-1730405700-1730416500@kalender.kino-kandern.de
SUMMARY:Der Besondere Film - Sterben
DESCRIPTION:
URL:http://kalender.kino-kandern.de/veranstaltung/der-besondere-film-sterben/
CATEGORIES:Der Besondere Film
END:VEVENT
BEGIN:VEVENT
DTSTART;TZID=Europe/Berlin:20241024T201500
DTEND;TZID=Europe/Berlin:20241024T214500
DTSTAMP:20260419T143022
CREATED:20240619T125624Z
LAST-MODIFIED:20240619T125624Z
UID:411-1729800900-1729806300@kalender.kino-kandern.de
SUMMARY:Der Besondere Film - Das Versprechen - Architekt BV Doshi ( Doku -OmU)
DESCRIPTION:
URL:http://kalender.kino-kandern.de/veranstaltung/der-besondere-film-das-versprechen-architekt-bv-doshi-doku-omu/
CATEGORIES:Der Besondere Film
END:VEVENT
BEGIN:VEVENT
DTSTART;TZID=Europe/Berlin:20241017T201500
DTEND;TZID=Europe/Berlin:20241017T220500
DTSTAMP:20260419T143022
CREATED:20240619T125312Z
LAST-MODIFIED:20240619T125420Z
UID:408-1729196100-1729202700@kalender.kino-kandern.de
SUMMARY:Der Besondere Film - Evil does not exist
DESCRIPTION:
URL:http://kalender.kino-kandern.de/veranstaltung/der-besondere-film-evil-dies-not-exist/
CATEGORIES:Der Besondere Film
END:VEVENT
BEGIN:VEVENT
DTSTART;TZID=Europe/Berlin:20241014T193000
DTEND;TZID=Europe/Berlin:20241014T210000
DTSTAMP:20260419T143022
CREATED:20240512T073842Z
LAST-MODIFIED:20240512T073842Z
UID:366-1728934200-1728939600@kalender.kino-kandern.de
SUMMARY:Vorstandssitzung
DESCRIPTION:
URL:http://kalender.kino-kandern.de/veranstaltung/vorstandssitzung-10/
CATEGORIES:Vorstandssitzung
END:VEVENT
BEGIN:VEVENT
DTSTART;TZID=Europe/Berlin:20241003T201500
DTEND;TZID=Europe/Berlin:20241003T220000
DTSTAMP:20260419T143022
CREATED:20240619T125128Z
LAST-MODIFIED:20240619T125128Z
UID:406-1727986500-1727992800@kalender.kino-kandern.de
SUMMARY:Der Besondere Film - Wem gehört mein Dorf? (Doku)
DESCRIPTION:
URL:http://kalender.kino-kandern.de/veranstaltung/der-besondere-film-wem-gehoert-mein-dorf-doku/
CATEGORIES:Der Besondere Film
END:VEVENT
BEGIN:VEVENT
DTSTART;TZID=Europe/Berlin:20240919T201500
DTEND;TZID=Europe/Berlin:20240919T223000
DTSTAMP:20260419T143022
CREATED:20240619T124910Z
LAST-MODIFIED:20240619T124910Z
UID:404-1726776900-1726785000@kalender.kino-kandern.de
SUMMARY:Der Besondere Film - Geliebte Köchin
DESCRIPTION:
URL:http://kalender.kino-kandern.de/veranstaltung/der-besondere-film-geliebte-koechin/
CATEGORIES:Der Besondere Film
END:VEVENT
BEGIN:VEVENT
DTSTART;TZID=Europe/Berlin:20240916T193000
DTEND;TZID=Europe/Berlin:20240916T210000
DTSTAMP:20260419T143022
CREATED:20240512T073746Z
LAST-MODIFIED:20240512T073746Z
UID:364-1726515000-1726520400@kalender.kino-kandern.de
SUMMARY:Vorstandssitzung
DESCRIPTION:
URL:http://kalender.kino-kandern.de/veranstaltung/vorstandssitzung-9/
CATEGORIES:Vorstandssitzung
END:VEVENT
BEGIN:VEVENT
DTSTART;TZID=Europe/Berlin:20240912T201500
DTEND;TZID=Europe/Berlin:20240912T214500
DTSTAMP:20260419T143022
CREATED:20240619T124745Z
LAST-MODIFIED:20240619T124745Z
UID:402-1726172100-1726177500@kalender.kino-kandern.de
SUMMARY:Der Besondere Film -  Wunderland (Doku)
DESCRIPTION:
URL:http://kalender.kino-kandern.de/veranstaltung/der-besondere-film-wunderland-doku/
CATEGORIES:Der Besondere Film
END:VEVENT
BEGIN:VEVENT
DTSTART;TZID=Europe/Berlin:20240911T203000
DTEND;TZID=Europe/Berlin:20240911T230000
DTSTAMP:20260419T143022
CREATED:20240212T165955Z
LAST-MODIFIED:20240212T170003Z
UID:267-1726086600-1726095600@kalender.kino-kandern.de
SUMMARY:Open-Air ChaBah Termin 7
DESCRIPTION:
URL:http://kalender.kino-kandern.de/veranstaltung/open-air-chabah-termin-7/
LOCATION:ChaBah\, Bahnhofstr. 13\, Kandern\, Baden-Württemberg\, 79400\, Deutschland
CATEGORIES:Open-Air Kino
END:VEVENT
BEGIN:VEVENT
DTSTART;TZID=Europe/Berlin:20240908T080000
DTEND;TZID=Europe/Berlin:20240916T170000
DTSTAMP:20260419T143022
CREATED:20240503T152951Z
LAST-MODIFIED:20240503T152951Z
UID:342-1725782400-1726506000@kalender.kino-kandern.de
SUMMARY:Uwe Urlaub
DESCRIPTION:
URL:http://kalender.kino-kandern.de/veranstaltung/uwe-urlaub-7/
END:VEVENT
BEGIN:VEVENT
DTSTART;VALUE=DATE:20240906
DTEND;VALUE=DATE:20240910
DTSTAMP:20260419T143022
CREATED:20240507T062348Z
LAST-MODIFIED:20240507T062348Z
UID:355-1725580800-1725926399@kalender.kino-kandern.de
SUMMARY:Kino geschlossen
DESCRIPTION:
URL:http://kalender.kino-kandern.de/veranstaltung/kino-geschlossen/
CATEGORIES:Geschlossen
END:VEVENT
BEGIN:VEVENT
DTSTART;VALUE=DATE:20240905
DTEND;VALUE=DATE:20240910
DTSTAMP:20260419T143022
CREATED:20240507T060851Z
LAST-MODIFIED:20240507T061018Z
UID:350-1725494400-1725926399@kalender.kino-kandern.de
SUMMARY:Judita Urlaub
DESCRIPTION:
URL:http://kalender.kino-kandern.de/veranstaltung/judita-urlaub/
CATEGORIES:Urlaub
END:VEVENT
BEGIN:VEVENT
DTSTART;TZID=Europe/Berlin:20240828T210000
DTEND;TZID=Europe/Berlin:20240828T230000
DTSTAMP:20260419T143022
CREATED:20240212T165921Z
LAST-MODIFIED:20240212T170019Z
UID:265-1724878800-1724886000@kalender.kino-kandern.de
SUMMARY:Open-Air ChaBah Termin 6
DESCRIPTION:
URL:http://kalender.kino-kandern.de/veranstaltung/open-air-chabah-termin-6/
LOCATION:ChaBah\, Bahnhofstr. 13\, Kandern\, Baden-Württemberg\, 79400\, Deutschland
CATEGORIES:Open-Air Kino
END:VEVENT
BEGIN:VEVENT
DTSTART;TZID=Europe/Berlin:20240822T201500
DTEND;TZID=Europe/Berlin:20240822T222000
DTSTAMP:20260419T143022
CREATED:20240619T124401Z
LAST-MODIFIED:20240619T124401Z
UID:400-1724357700-1724365200@kalender.kino-kandern.de
SUMMARY:Der Besondere Film - Radical -Eine Klasse für sich
DESCRIPTION:
URL:http://kalender.kino-kandern.de/veranstaltung/der-besondere-film-radical-eine-klasse-fuer-sich/
CATEGORIES:Der Besondere Film
END:VEVENT
BEGIN:VEVENT
DTSTART;VALUE=DATE:20240819
DTEND;VALUE=DATE:20240823
DTSTAMP:20260419T143022
CREATED:20240818T094300Z
LAST-MODIFIED:20240818T094300Z
UID:430-1724025600-1724371199@kalender.kino-kandern.de
SUMMARY:Uwe Urlaub
DESCRIPTION:
URL:http://kalender.kino-kandern.de/veranstaltung/uwe-urlaub-9/
END:VEVENT
BEGIN:VEVENT
DTSTART;TZID=Europe/Berlin:20240814T210000
DTEND;TZID=Europe/Berlin:20240814T230000
DTSTAMP:20260419T143022
CREATED:20240212T165851Z
LAST-MODIFIED:20240212T170039Z
UID:263-1723669200-1723676400@kalender.kino-kandern.de
SUMMARY:Open-Air ChaBah Termin 5
DESCRIPTION:
URL:http://kalender.kino-kandern.de/veranstaltung/open-air-chabah-termin-5/
LOCATION:ChaBah\, Bahnhofstr. 13\, Kandern\, Baden-Württemberg\, 79400\, Deutschland
CATEGORIES:Open-Air Kino
END:VEVENT
END:VCALENDAR